BEGIN:VCALENDAR
VERSION:2.0
PRODID:-//Miami Dade Al-Anon - ECPv6.15.12.2//NONSGML v1.0//EN
CALSCALE:GREGORIAN
METHOD:PUBLISH
X-ORIGINAL-URL:https://alanonsofla.org
X-WR-CALDESC:Events for Miami Dade Al-Anon
REFRESH-INTERVAL;VALUE=DURATION:PT1H
X-Robots-Tag:noindex
X-PUBLISHED-TTL:PT1H
BEGIN:VTIMEZONE
TZID:America/New_York
BEGIN:DAYLIGHT
TZOFFSETFROM:-0500
TZOFFSETTO:-0400
TZNAME:EDT
DTSTART:20250309T070000
END:DAYLIGHT
BEGIN:STANDARD
TZOFFSETFROM:-0400
TZOFFSETTO:-0500
TZNAME:EST
DTSTART:20251102T060000
END:STANDARD
BEGIN:DAYLIGHT
TZOFFSETFROM:-0500
TZOFFSETTO:-0400
TZNAME:EDT
DTSTART:20260308T070000
END:DAYLIGHT
BEGIN:STANDARD
TZOFFSETFROM:-0400
TZOFFSETTO:-0500
TZNAME:EST
DTSTART:20261101T060000
END:STANDARD
BEGIN:DAYLIGHT
TZOFFSETFROM:-0500
TZOFFSETTO:-0400
TZNAME:EDT
DTSTART:20270314T070000
END:DAYLIGHT
BEGIN:STANDARD
TZOFFSETFROM:-0400
TZOFFSETTO:-0500
TZNAME:EST
DTSTART:20271107T060000
END:STANDARD
END:VTIMEZONE
BEGIN:VEVENT
DTSTART;VALUE=DATE:20260821
DTEND;VALUE=DATE:20260824
DTSTAMP:20260420T082341
CREATED:20260112T025441Z
LAST-MODIFIED:20260328T205927Z
UID:6867-1787270400-1787529599@alanonsofla.org
SUMMARY:Travelling to Serenity 38th Annual AFG Florida South Convention with AA Participation
DESCRIPTION:36th Annual AFG Florida South Area 10 Convention with AA Participation \nFriday\, August 21- Sunday\, August 23\, 2026 \nCome celebrate your journey to serenity with fellowship\, workshops and speakers. \nFor more information\, click here. \nRegistration flyer: 2026-registration-flyer-english \nRegistration flyer en español: 2026-registration-flyer-espanol
URL:https://alanonsofla.org/event/travelling-to-serenity-38th-annual-afg-florida-south-convention-with-aa-participation/
LOCATION:Hyatt Regency Coconut Point Resort and Spa\, 5001 Coconut Road\, Bonita Springs\, FL\, 34134\, United States
END:VEVENT
END:VCALENDAR